BEGIN:VCALENDAR
VERSION:2.0
PRODID:-//eventon.com NONSGML v1.0//EN
CALSCALE:GREGORIAN
METHOD:PUBLISH
BEGIN:VEVENT
UID:69ea3015e36a9
DTSTAMP:20260423T144333Z
DTSTART:20260208T200000Z
DTEND:20260209T030000Z
LOCATION:Mille Fleurs
SUMMARY:Blossom "Royalty"
DESCRIPTION:Step into the world of BLOSSOM Royalty — a luxurious\,  all-i
 nclusive brunch experience where elegance\,  indulgence\,  and Carnival sop
 histication unite. Immerse yourself in a day of premium cuisine\,  signatur
 e cocktails\,  fashion\,  and unforgettable ambiance surrounded by beauty a
 nd class. This is not just a brunch — it’s a celebration of[..]\nhttps:
 //www.ticketfederation.com/events/blossom-royalty/
URL:https://www.ticketfederation.com/events/blossom-royalty/
END:VEVENT
END:VCALENDAR